Workbook

Sheet Dados
E1: Data atualização: | F1: =NOW() -> 46120.877
B3: Operação - Estado | C3: Em Execução
B4: Operação - Código | C4: POSEUR-02-1810-FC-000366
B6: Eixo Prioritário | C6: Prioridade Investimento - Designação | D6: Aviso - Código | E6: Aviso - Designação | F6: Operação - Designação | G6: Operação - Nome Beneficiário Principal | H6: Operação - Descrição | I6: Operação - Objetivos | J6: Operação - Data Início Prevista | K6: Operação - Data Fim Prevista | L6: Operação - Data Início Efetiva | M6: Operação - Data Fim Efetiva | N6: Operações - Mont. Total de Investimento Analisado | O6: Operações - Mont. Não Elegível Analisado | P6: Operações - Mont. Elegível Não Comp. Analisado | Q6: Operações - Mont. Elegível Bruto Analisado | R6: Operações - Mont. Elegível Analisado | S6: Operações - Taxa Co-Financiamento Analisado | T6: Operações - Mont. de Fundo de Coesão Analisado | U6: Operações - Mont. Total do Investimento Executado | V6: Operações - Mont. Não Elegível Executado | W6: Operações - Mont. Elegível Não Comp. Executado | X6: Operações - Mont. Elegível Bruto Executado | Y6: Operações - Mont. Elegível Executado | Z6: Operações - Mont. de Fundo de Coesão Executado
B10: Operação - Estado | C10: Em Execução
B11: Operação - Código | C11: POSEUR-02-1810-FC-000366
B13: Flag Geradora Receitas | C13: Operações - Mont. Total de Investimento Analisado | D13: Operações - Taxa Forfetária Analisado | E13: Operações - Mont. de Custos Operacionais Analisado | F13: Operações - Mont. de Despesas Elegíveis Atualizadas Analisado | G13: Operações - Mont. de Receitas Analisado | H13: Operações - Mont. de Receitas Líquidas Analisado | I13: Operações - Mont. do Valor Residual Analisado | J13: Operações - Mont. Total Excluindo Contingências Analisado | K13: Operações - Taxa Pro Rata da Receita Líquida Atualizada Analisado
B16: Operação - Estado | C16: Em Execução
B17: Operação - Código | C17: POSEUR-02-1810-FC-000366
B19: Código Indicador | C19: Operação Indicador - Indicador | D19: Operação Indicador - Tipo Indicador | E19: Operação Indicador - Flag Contratualizar | F19: Operação Indicador - Unidade | G19: Operação Indicador - Ano Alvo | H19: Operação Indicador - Observações | I19: Operações Indicadores - Valor de Referência | J19: Operações Indicadores - Meta
B66: Reporte Indicador - Estado | C66: Validado
B67: Operação - Estado | C67: Em Execução
B68: Operação - Código | C68: POSEUR-02-1810-FC-000366
B70: Código Indicador | C70: Flag Reporte Relatório Final | D70: Operações Indicadores - Execução Atual
B126: Operação - Estado | C126: Em Execução
B127: Operação - Código | C127: POSEUR-02-1810-FC-000366
B129: Componente Investimento | C129: Operações Componentes - Mont. Total do Investimento | D129: Operações Componentes - Mont. Não Elegível | E129: Operações Componentes - Mont. Elegível | F129: Operações Componentes - Mont. Elegível Bruto | G129: Operações Componentes - Mont. Elegível Não Comp.
B150: Operação - Estado | C150: Em Execução
B151: Operação - Código | C151: POSEUR-02-1810-FC-000366
B153: Contrato - Código | C153: Contrato Operação - Componente | D153: Contrato - Estado | E153: Contrato - Designação | F153: Contrato Operação - Fornecedor | G153: Contratos Componentes - Mont. Imputado Com IVA | H153: Contratos Componentes - Mont. Não Elegível | I153: Contratos Componentes - Mont. Elegível Bruto | J153: Contratos Componentes - Mont. Elegível | K153: Contratos Componentes - Mont. Total Executado | L153: Contratos Componentes - Mont. Não Elegível Executado | M153: Contratos Componentes - Mont. Elegível Bruto Executado | N153: Contratos Componentes - Mont. Elegível Executado
A154: =CONCATENATE(B154,C154,F154) | P154: POSEUR-03-1911-FC-000098
A155: =CONCATENATE(B155,C155,F155) | P155: POSEUR-03-2012-FC-000034
A156: =CONCATENATE(B156,C156,F156) | P156: POSEUR-03-2012-FC-000224
A157: =CONCATENATE(B157,C157,F157) | P157: POSEUR-03-2012-FC-000268
A158: =CONCATENATE(B158,C158,F158) | P158: POSEUR-03-2012-FC-000383
A159: =CONCATENATE(B159,C159,F159) | P159: POSEUR-03-2012-FC-000545
A160: =CONCATENATE(B160,C160,F160) | P160: POSEUR-03-2012-FC-000590
A161: =CONCATENATE(B161,C161,F161) | P161: POSEUR-03-2012-FC-000715
A162: =CONCATENATE(B162,C162,F162) | P162: POSEUR-03-2012-FC-000735
A163: =CONCATENATE(B163,C163,F163)
A164: =CONCATENATE(B164,C164,F164)
A165: =CONCATENATE(B165,C165,F165)
A166: =CONCATENATE(B166,C166,F166)
A167: =CONCATENATE(B167,C167,F167)
A168: =CONCATENATE(B168,C168,F168)
A169: =CONCATENATE(B169,C169,F169)
A170: =CONCATENATE(B170,C170,F170)
A171: =CONCATENATE(B171,C171,F171)
A172: =CONCATENATE(B172,C172,F172)
A173: =CONCATENATE(B173,C173,F173)
...

Sheet Contratos
E1: Data atualização: | F1: =NOW() -> 46120.877
B6: Contrato - Código | C6: Contrato - Designação | D6: Contratos - Mont. Total | E6: Contratos - Mont. Adjudicado
B7: CNT-000001 | C7: Consultoria para elaboração do EVEF | D7: 11377.5 | E7: 9250
B8: CNT-000003 | C8: ETAR – Tratamento Secundário | D8: 15470398 | E8: 13899729
B9: CNT-000005 | C9: Despesas com o Pessoal | D9: 13759188 | E9: 13759188
B10: CNT-000006 | C10: Elaboração da Descrição do Sistema de Gestão e Controlo do Programa Operacional Sustentabilidade e Eficiência no Uso de Recursos (DSGC) | D10: 76752 | E10: 62400
B11: CNT-000007 | C11: Construção da ETAR de NElas III e Sistema Intercetor - Projecto da Nova ETAR | D11: 79950 | E11: 65000
B12: CNT-000008 | C12: Construção da ETAR de Nelas III e Sistema Intercetor - Projecto de Sistemas de Drenagem de Ligação de Ligação da Nova ETAR de Nelas | D12: 86100.01 | E12: 70000.01
B13: CNT-000009 | C13: Construção da ETAR de Nelas III e Sistema Intercetor - Elaboração da analise Custo-beneficio (ACB) incluindo estudo de viabilidade financeira (EVEF) | D13: 5781 | E13: 4700
B14: CNT-000010 | C14: Elaboração dos Projectos de Execução para a Remodelação da ETAR das Courelas e da ETAR Quinta do Seixo | D14: 68264 | E14: 68264
B15: CNT-000011 | C15: Elaboração dos Projectos de Execução para a Remodelação da ETAR das Courelas e da ETAR Quinta do Seixo | D15: 68264 | E15: 68264
B16: CNT-000012 | C16: Serviços de consultoria técnica especializada para a “Elaboração de uma estratégia para o uso eficiente de recursos” | D16: 61426.2 | E16: 49940
B17: CNT-000013 | C17: “Criação, desenvolvimento e implementação do website do Programa Operacional da Sustentabilidade e Eficiência no Uso de Recursos (PO SEUR)” | D17: 92127 | E17: 74900
B18: CNT-000014 | C18: Adaptação do Sistema de Informação do POVT para o Programa Operacional da Sustentabilidade e Eficiência no Uso de Recursos (POSEUR) e Interoperabilidade com o Sistema de Informação do Portugal 2020. | D18: 91758 | E18: 74600
... B12869: CNT-206645 | C12869: Empreitada de Regularização do Rio Arunca - Trabalhos complementares | D12869: 469566.95 | E12869: 381761.75
B12870: CNT-206657 | C12870: Constituição de Servidão Administrativa | D12870: 806
B12871: CNT-206664 | C12871: Constituição de Servidão Administrativa | D12871: 31188
B12872: CNT-206665 | C12872: Folha Manual 17/2023 - Sandra Marina Miranda dos Santos Nunes | D12872: 679.96 | E12872: 679.96
B12873: CNT-206669 | C12873: Folha Manual 18/2023 - Sara Beatriz Rodrigues da Rocha | D12873: 618.58 | E12873: 618.58
B12874: CNT-206671 | C12874: Folha Manual 19/2023 - Pedro Luis Calado Galguinho | D12874: 701.18 | E12874: 701.18
B12875: CNT-206673 | C12875: Constituição de Servidão Administrativa | D12875: 207.9
B12876: CNT-206675 | C12876: Folha Manual 20/2023 - Maria Manuela Araújo de Matos | D12876: 8649.67 | E12876: 8649.67
B12877: CNT-206677 | C12877: Folha Manual 21/2023 - José Roque de Pinho Marques Guedes | D12877: 8623.12 | E12877: 8623.12
B12878: CNT-206679 | C12878: Constituição de Servidão Administrativa | D12878: 132.3
B12879: CNT-206681 | C12879: Constituição de Servidão Administrativa | D12879: 3829.58 | E12879: 0
B12880: CNT-206683 | C12880: Constituição de Servidão Administrativa | D12880: 833.3 | E12880: 0
B12881: CNT-206687 | C12881: Constituição de Servidão Administrativa | D12881: 239
B12882: CNT-206688 | C12882: Constituição de Servidão Administrativa | D12882: 103.95
B12883: CNT-206690 | C12883: Empreitada de Estabilização das Arribas da Nazaré na zona do denominado “SÍTIO” e da envolvente da PLATAFORMA SUPERIOR DO ASCENSOR - trabalhos complementares proveniente de erros e omissões | D12883: 50193.23 | E12883: 40807.5
B12884: CNT-206691 | C12884: Constituição de Servidão Administrativa | D12884: 526.5
B12885: CNT-206692 | C12885: Constituição de Servidão Administrativa | D12885: 666.23 | E12885: 0
B12886: CNT-206694 | C12886: Constituição de Servidão Administrativa | D12886: 1039.89
B12887: CNT-206696 | C12887: Constituição de Servidão Administrativa | D12887: 275.63 | E12887: 0
B12888: CNT-206697 | C12888: Constituição de Servidão Administrativa | D12888: 807.63 | E12888: 0
B12889: CNT-206698 | C12889: Constituição de Servidão Administrativa | D12889: 4161 | E12889: 0
B12890: CNT-206699 | C12890: EMPREITADA LR - ADENDA 1 - TC TNP | D12890: 1330380.2 | E12890: 1330380.2
B12891: CNT-206700 | C12891: Constituição de Servidão Administrativa | D12891: 453.2
B12892: CNT-206703 | C12892: Constituição de Servidão Administrativa | D12892: 226.8
B12893: CNT-206712 | C12893: AVALIAÇÃO DAS PARCELAS DE TERRENO | D12893: 6119.25 | E12893: 4975
B12894: CNT-206714 | C12894: Constituição de Servidão | D12894: 126.45
...

Sheet R.Final OP
B6: Programa Temático para a Ação Climática e Sustentabilidade
E8: ANÁLISE RELATÓRIO FINAL
E11: Código da Operação
E13: Designação da operação
E15: Tipologia de Intervenção
E17: Tipologia de Operação
E19: Código do aviso
E21: Designação do aviso
E25: Designação do Beneficiário
B27: 1 - CARATERIZAÇÃO DA OPERAÇÃO
E30: 1.1 Descrição da implementação da operação
E32: Descrição da operação/Objetivos aprovados na última decisão em vigor
E33: =CONCATENATE(Dados!H7," ",Dados!I7)
E50: Descrição dos trabalhos realizados e dos principais objetivos alcançados com a concretização da operação
E69: ANÁLISE IMPLEMENTAÇÃO DA OPERAÇÃO E SUA ADEQUAÇÃO EM RELAÇÃO AO APROVADO (COM BASE NA ÚLTIMA DECISÃO)
B89: CALENDARIZAÇÃO DA OPERAÇÃO
E91: 1.2 Aprovado | W91: 1.3 Executado
F92: Período de Realização da Operação: | W92: Período de Realização da Operação:
E94: Data de Início | S94: Data de Conclusão | W94: Data de Inicio | AD94: Data de Conclusão
W95: (Data da primeira fatura ou documento de valor probatório equivalente) | AD95: (Data do último movimento bancário relativo ao pagamento)
D96: Observações | E96: Justificação dos desvios, se aplicável:
E100: ANÁLISE
B104: 2 - EXECUÇÃO FINANCEIRA DA OPERAÇÃO
E106: 2.1 Aprovado | W106: 2.2 Executado
E108: Custo Total do Investimento | U108: Euros | W108: Custo Total do Investimento | AH108: Euros
E110: Custo total Elegível | U110: Euros | W110: Custo total Elegível | AH110: Euros
E112: Custo total não elegivel | U112: Euros | W112: Custo total não elegivel | AH112: Euros
E114: Custo Total Elegível Não Financiado | U114: Euros | W114: Custo Total Elegível Não Financiado | AH114: Euros
E116: Pro Rata Receita Liquida actualizada/ Taxa Forfetária | R116: % | W116: Pro Rata Receita Liquida actualizada/Taxa Forfetária | AD116: %
E118: Custo Elegível Financiado | U118: Euros | W118: Custo Elegível Financiado | AH118: Euros
E120: Taxa de co-financiamento | W120: Taxa de co-financiamento | AD120: %
E122: Contribuição Fundo de Coesão | U122: Euros | W122: Contribuição Fundo de Coesão | AH122: Euros
W124: Contribuição Fundo de Coesão Pago | AH124: Euros
E128: Justificação dos desvios
E146: ANÁLISE EXECUÇÃO FINANCEIRA DA OPERAÇÃO
E160: 2.3 Execução por contrato
E163: Categoria de custo | H163: Procedimentos de Adjudicação | AD163: Execução | AL163: Outras informações (Data Auto Receção; Data conta final;
H165: Código Contrato | J165: Designação Contrato | O165: Fornecedor | U165: Valor Adjudicação | W165: Valor Imputado | X165: Custo Não Elegível | Z165: Custo Total Elegível | AC165: Custo elegível financiado | AD165: Valor Imputado | AE165: Custo Não Elegível | AG165: Custo Total Elegível | AH165: Custo elegível financiado | AJ165: Taxa de Execução
U167: (1) | W167: (2) | X167: (3) | Z167: (4) | AC167: (5) | AD167: (6) | AE167: (7) | AG167: (8) | AH167: (9) | AJ167: (10)=(9)/(5)
E168: =IF(Dados!C154=0,"",Dados!C154) | H168: =IF(Dados!B154=0,"",Dados!B154) | J168: =IF(VLOOKUP(CONCATENATE($H168,$E168,O168),Dados!$A$154:$N$1094,5,0)=0,"",VLOOKUP(CONCATENATE($H168,$E168,O168),Dados!$A$154:$N$1094,5,0)) | O168: =IF(Dados!F154=0,"",Dados!F154) | U168: =IFERROR(VLOOKUP($H168,Contratos!B7:E30000,4,0),"") | W168: =IF(VLOOKUP(CONCATENATE($H168,$E168,O168),Dados!$A$154:$N$1094,7,0)=0,"",VLOOKUP(CONCATENATE($H168,$E168,O168),Dados!$A$154:$N$1094,7,0)) | X168: =IF(VLOOKUP(CONCATENATE($H168,$E168,O168),Dados!$A$154:$N$1094,8,0)=0,"",VLOOKUP(CONCATENATE($H168,$E168,O168),Dados!$A$154:$N$1094,8,0)) | Z168: =IF(VLOOKUP(CONCATENATE($H168,$E168,O168),Dados!$A$154:$N$1094,9,0)=0,"",VLOOKUP(CONCATENATE($H168,$E168,O168),Dados!$A$154:$N$1094,9,0)) | AC168: =IF(VLOOKUP(CONCATENATE($H168,$E168,O168),Dados!$A$154:$N$1094,10,0)=0,"",VLOOKUP(CONCATENATE($H168,$E168,O168),Dados!$A$154:$N$1094,10,0)) | AD168: =IF(VLOOKUP(CONCATENATE($H168,$E168,O168),Dados!$A$154:$N$1094,11,0)=0,"",VLOOKUP(CONCATENATE($H168,$E168,O168),Dados!$A$154:$N$1094,11,0)) | AE168: =IF(VLOOKUP(CONCATENATE($H168,$E168,O168),Dados!$A$154:$N$1094,12,0)=0,"",VLOOKUP(CONCATENATE($H168,$E168,O168),Dados!$A$154:$N$1094,12,0)) | AG168: =IF(VLOOKUP(CONCATENATE($H168,$E168,O168),Dados!$A$154:$N$1094,13,0)=0,"",VLOOKUP(CONCATENATE($H168,$E168,O168),Dados!$A$154:$N$1094,13,0)) | AH168: =IF(VLOOKUP(CONCATENATE($H168,$E168,O168),Dados!$A$154:$N$1094,14,0)=0,"",VLOOKUP(CONCATENATE($H168,$E168,O168),Dados!$A$154:$N$1094,14,0)) | AJ168: =IFERROR(AH168/AC168,"")
...
